BEGIN:VCALENDAR
VERSION:2.0
PRODID:-//Sector Support - ECPv6.15.20//NONSGML v1.0//EN
CALSCALE:GREGORIAN
METHOD:PUBLISH
X-ORIGINAL-URL:https://sector.yourside.org.au
X-WR-CALDESC:Events for Sector Support
REFRESH-INTERVAL;VALUE=DURATION:PT1H
X-Robots-Tag:noindex
X-PUBLISHED-TTL:PT1H
BEGIN:VTIMEZONE
TZID:Australia/Sydney
BEGIN:STANDARD
TZOFFSETFROM:+1100
TZOFFSETTO:+1000
TZNAME:AEST
DTSTART:20250405T160000
END:STANDARD
BEGIN:DAYLIGHT
TZOFFSETFROM:+1000
TZOFFSETTO:+1100
TZNAME:AEDT
DTSTART:20251004T160000
END:DAYLIGHT
BEGIN:STANDARD
TZOFFSETFROM:+1100
TZOFFSETTO:+1000
TZNAME:AEST
DTSTART:20260404T160000
END:STANDARD
BEGIN:DAYLIGHT
TZOFFSETFROM:+1000
TZOFFSETTO:+1100
TZNAME:AEDT
DTSTART:20261003T160000
END:DAYLIGHT
BEGIN:STANDARD
TZOFFSETFROM:+1100
TZOFFSETTO:+1000
TZNAME:AEST
DTSTART:20270403T160000
END:STANDARD
BEGIN:DAYLIGHT
TZOFFSETFROM:+1000
TZOFFSETTO:+1100
TZNAME:AEDT
DTSTART:20271002T160000
END:DAYLIGHT
END:VTIMEZONE
BEGIN:VEVENT
DTSTART;TZID=Australia/Sydney:20260504T110000
DTEND;TZID=Australia/Sydney:20260504T130000
DTSTAMP:20260426T131847
CREATED:20260421T103647Z
LAST-MODIFIED:20260421T104305Z
UID:10000987-1777892400-1777899600@sector.yourside.org.au
SUMMARY:NSW Treaty Commission Conversation: Lightning Ridge
DESCRIPTION:The NSW Treaty Commission is travelling across NSW and Aboriginal communities are invited to be part of the conversation. Bring the mob\, share your thoughts\, and grab a feed. \nA conversation led by Aboriginal people\, for Aboriginal people\nAboriginal communities across NSW are being invited to take part in a statewide conversation about whether a Treaty or another kind of formal agreement is wanted\, and what that could look like. \nThis is not the start of a Treaty. It is the start of a conversation — one that belongs to Aboriginal people across NSW. \nWhat This Conversation Is About\nThe NSW Treaty Commission has been asked to listen to Aboriginal people across the State and report back on two key questions: \n\nDo Aboriginal people want a Treaty or another kind of formal agreement in NSW?\nIf so\, what should that agreement include?\n\nThere is no decision already made. The answers to these questions will come directly from Aboriginal communities. \nWhat’s Happening Now\nOver 12 months\, the NSW Treaty Commission is travelling across NSW to listen to Aboriginal people — in cities\, towns\, regional centres and remote communities. \nThis process is independent of government and shaped by what communities choose to share. \nLightning Ridge\nMonday 4 May 2026\, 11am to 1pm\nLightning Ridge Multipurpose Centre\, 1 Agate St Lightning Ridge 2834 \nWalgett\nTuesday 5 May 2026\, 11am to 1pm\nWalgett RSL Club\, 71 Fox St Walgett NSW 2832 \nCoonamble \nThursday 7 May 2026\, 11am to 1pm\nCoonamble REDI.E Youth Hub\, 1-3 McMahon St Coonamble NSW 2289 \nGilgandra \nFriday 8 May 2026\, 2pm to 4pm\nThe Gil Library Hub\, 30-32 Miller St Gilgandra NSW 2827 \nWhat This Means for You and Your Family\nTaking part is your chance to: \n\nSay whether you want a Treaty or another form of agreement making\, or not\nShare what justice\, fairness and the future mean for your community\nHelp decide the right path for your mob\, region or nation\n\nThis is about shaping a future that reflects your experiences\, your culture and your hopes. \nIf you cannot attend a session\, you can upload your thoughts online: \n\nWritten story or statement\nVoice recording\nArtwork\nVideo message\nSurvey\nRegister your interest for a small targeted session\nHost your own Treaty Conversation\n\nSubmissions from non-Aboriginal individuals or organisations are not currently a part of this consultation process. There will be opportunities in the future for non-Indigenous people and organisations to learn about the process and have a say. For now\, the focus is on ensuring Aboriginal voices are heard clearly and without interference. \nFull details on the NSW Treaty Commission website here  \n \nPast Events: \nNewcastle\n Yamuloong Centre | 71 Prospect Rd\, Garden Suburb NSW 2289\n Tuesday\, 10th March 2026 11:30am – 1:30pm\nEvent details hereWyong\n📍 Where: Wyong Golf Club | 319 Pacific Hwy\, Wyong\n📅 When: Wednesday\, 11th March 2026\n⏰ Time: 11:30 AM – 1:30 PM\nEvent details here \nUmina\nWhen: Thursday\, 12th March 2026\nCheck for further details on social media \nToomelah \nToomelah Public School\, off Old Bruxner Hwy\, Boggabilla NSW 2409\nMonday 13 April 2026\, 1:00pm to 3:00pm \nNarrabri\nThe Crossing Theatre (Exhibition Room)\, 117 Tibbereena St\, Narrabri NSW 2390\nTuesday 14 April 2026\, 11:00am to 1:00pm \nInverell\nAnnex Hall\, Inverell Town Hall\, Otho St & Evans St\, Inverell NSW 2360\nWednesday 15 April 2026\, 11:00am to 1:00pm \nMoree \nAuditorium\, Moree Services Club\, 3 Albert St\, Moree NSW 2400\nThursday 16 April 2026\, 5:00pm to 7:00pm
URL:https://sector.yourside.org.au/event/nsw-treaty-commission-conversation-lightningridge/
LOCATION:Various Locations
END:VEVENT
BEGIN:VEVENT
DTSTART;TZID=Australia/Sydney:20260505T090000
DTEND;TZID=Australia/Sydney:20260505T163000
DTSTAMP:20260426T131847
CREATED:20260421T114045Z
LAST-MODIFIED:20260421T114045Z
UID:10000991-1777971600-1777998600@sector.yourside.org.au
SUMMARY:Leadership Legacies: Creating Workplaces of Cultural Safety\, Care and Compassion
DESCRIPTION:Yamurrah offers a variety of programs which brings together culturally responsive\, trauma-informed workshops and leadership programs grounded in First Nations ways of knowing\, doing and being and informed by neuroscience\, complexity thinking\, adaptive leadership\, decolonisation and human rights.   \nLeadership Legacies: Creating Workplaces of Cultural Safety\, Care and Compassion is a 1-day session suitable for: \n\nLeaders\, managers and supervisors\nPeople shaping culture\, teams and systems\nOrganisations committed to cultural safety and ethical leadership\n\nVarious dates and locations: \n\n5 May\, Sydney\n19 May\, Brisbane\n4 June\, Melbourne\n20 July\, Alice Springs\n10 August\, Canberra\n13 October\, Cairns\n29 October\, Sydney\n\nTickets range from $1\,200 to $1\,800\nFurther information and to register here.
URL:https://sector.yourside.org.au/event/leadership-legacies-creating-workplaces-of-cultural-safety-care-and-compassion/
LOCATION:Various Locations
END:VEVENT
BEGIN:VEVENT
DTSTART;TZID=Australia/Sydney:20260505T110000
DTEND;TZID=Australia/Sydney:20260505T130000
DTSTAMP:20260426T131847
CREATED:20260421T103929Z
LAST-MODIFIED:20260421T103929Z
UID:10000988-1777978800-1777986000@sector.yourside.org.au
SUMMARY:NSW Treaty Commission Conversation: Walgett
DESCRIPTION:The NSW Treaty Commission is heading to Wyong\, Newcastle and Umina\, and Aboriginal communities across NSW are invited to be part of the conversation. Bring the mob\, share your thoughts\, and grab a feed. \nA conversation led by Aboriginal people\, for Aboriginal people\nAboriginal communities across NSW are being invited to take part in a statewide conversation about whether a Treaty or another kind of formal agreement is wanted\, and what that could look like. \nThis is not the start of a Treaty. It is the start of a conversation — one that belongs to Aboriginal people across NSW. \nWhat This Conversation Is About\nThe NSW Treaty Commission has been asked to listen to Aboriginal people across the State and report back on two key questions: \n\nDo Aboriginal people want a Treaty or another kind of formal agreement in NSW?\nIf so\, what should that agreement include?\n\nThere is no decision already made. The answers to these questions will come directly from Aboriginal communities. \nWhat’s Happening Now\nOver 12 months\, the NSW Treaty Commission is travelling across NSW to listen to Aboriginal people — in cities\, towns\, regional centres and remote communities. \nThis process is independent of government and shaped by what communities choose to share. \nLightning Ridge\nMonday 4 May 2026\, 11am to 1pm\nLightning Ridge Multipurpose Centre\, 1 Agate St Lightning Ridge 2834 \nWalgett\nTuesday 5 May 2026\, 11am to 1pm\nWalgett RSL Club\, 71 Fox St Walgett NSW 2832 \nCoonamble \nThursday 7 May 2026\, 11am to 1pm\nCoonamble REDI.E Youth Hub\, 1-3 McMahon St Coonamble NSW 2289 \nGilgandra \nFriday 8 May 2026\, 2pm to 4pm\nThe Gil Library Hub\, 30-32 Miller St Gilgandra NSW 2827 \nWhat This Means for You and Your Family\nTaking part is your chance to: \n\nSay whether you want a Treaty or another form of agreement making\, or not\nShare what justice\, fairness and the future mean for your community\nHelp decide the right path for your mob\, region or nation\n\nThis is about shaping a future that reflects your experiences\, your culture and your hopes. \nIf you cannot attend a session\, you can upload your thoughts online: \n\nWritten story or statement\nVoice recording\nArtwork\nVideo message\nSurvey\nRegister your interest for a small targeted session\nHost your own Treaty Conversation\n\nSubmissions from non-Aboriginal individuals or organisations are not currently a part of this consultation process. There will be opportunities in the future for non-Indigenous people and organisations to learn about the process and have a say. For now\, the focus is on ensuring Aboriginal voices are heard clearly and without interference. \nFull details on the NSW Treaty Commission website here  \n \nPast Events: \nNewcastle\n Yamuloong Centre | 71 Prospect Rd\, Garden Suburb NSW 2289\n Tuesday\, 10th March 2026 11:30am – 1:30pm\nEvent details hereWyong\n📍 Where: Wyong Golf Club | 319 Pacific Hwy\, Wyong\n📅 When: Wednesday\, 11th March 2026\n⏰ Time: 11:30 AM – 1:30 PM\nEvent details here \nUmina\nWhen: Thursday\, 12th March 2026\nCheck for further details on social media \nToomelah \nToomelah Public School\, off Old Bruxner Hwy\, Boggabilla NSW 2409\nMonday 13 April 2026\, 1:00pm to 3:00pm \nNarrabri\nThe Crossing Theatre (Exhibition Room)\, 117 Tibbereena St\, Narrabri NSW 2390\nTuesday 14 April 2026\, 11:00am to 1:00pm \nInverell\nAnnex Hall\, Inverell Town Hall\, Otho St & Evans St\, Inverell NSW 2360\nWednesday 15 April 2026\, 11:00am to 1:00pm \nMoree \nAuditorium\, Moree Services Club\, 3 Albert St\, Moree NSW 2400\nThursday 16 April 2026\, 5:00pm to 7:00pm
URL:https://sector.yourside.org.au/event/nsw-treaty-commission-conversation-walgett/
LOCATION:Various Locations
END:VEVENT
BEGIN:VEVENT
DTSTART;TZID=Australia/Sydney:20260507T110000
DTEND;TZID=Australia/Sydney:20260507T130000
DTSTAMP:20260426T131847
CREATED:20260421T104334Z
LAST-MODIFIED:20260421T104334Z
UID:10000989-1778151600-1778158800@sector.yourside.org.au
SUMMARY:NSW Treaty Commission Conversation: Coonamble
DESCRIPTION:The NSW Treaty Commission is travelling across NSW and Aboriginal communities are invited to be part of the conversation. Bring the mob\, share your thoughts\, and grab a feed. \nA conversation led by Aboriginal people\, for Aboriginal people\nAboriginal communities across NSW are being invited to take part in a statewide conversation about whether a Treaty or another kind of formal agreement is wanted\, and what that could look like. \nThis is not the start of a Treaty. It is the start of a conversation — one that belongs to Aboriginal people across NSW. \nWhat This Conversation Is About\nThe NSW Treaty Commission has been asked to listen to Aboriginal people across the State and report back on two key questions: \n\nDo Aboriginal people want a Treaty or another kind of formal agreement in NSW?\nIf so\, what should that agreement include?\n\nThere is no decision already made. The answers to these questions will come directly from Aboriginal communities. \nWhat’s Happening Now\nOver 12 months\, the NSW Treaty Commission is travelling across NSW to listen to Aboriginal people — in cities\, towns\, regional centres and remote communities. \nThis process is independent of government and shaped by what communities choose to share. \nLightning Ridge\nMonday 4 May 2026\, 11am to 1pm\nLightning Ridge Multipurpose Centre\, 1 Agate St Lightning Ridge 2834 \nWalgett\nTuesday 5 May 2026\, 11am to 1pm\nWalgett RSL Club\, 71 Fox St Walgett NSW 2832 \nCoonamble \nThursday 7 May 2026\, 11am to 1pm\nCoonamble REDI.E Youth Hub\, 1-3 McMahon St Coonamble NSW 2289 \nGilgandra \nFriday 8 May 2026\, 2pm to 4pm\nThe Gil Library Hub\, 30-32 Miller St Gilgandra NSW 2827 \nWhat This Means for You and Your Family\nTaking part is your chance to: \n\nSay whether you want a Treaty or another form of agreement making\, or not\nShare what justice\, fairness and the future mean for your community\nHelp decide the right path for your mob\, region or nation\n\nThis is about shaping a future that reflects your experiences\, your culture and your hopes. \nIf you cannot attend a session\, you can upload your thoughts online: \n\nWritten story or statement\nVoice recording\nArtwork\nVideo message\nSurvey\nRegister your interest for a small targeted session\nHost your own Treaty Conversation\n\nSubmissions from non-Aboriginal individuals or organisations are not currently a part of this consultation process. There will be opportunities in the future for non-Indigenous people and organisations to learn about the process and have a say. For now\, the focus is on ensuring Aboriginal voices are heard clearly and without interference. \nFull details on the NSW Treaty Commission website here  \n \nPast Events: \nNewcastle\n Yamuloong Centre | 71 Prospect Rd\, Garden Suburb NSW 2289\n Tuesday\, 10th March 2026 11:30am – 1:30pm\nEvent details hereWyong\n📍 Where: Wyong Golf Club | 319 Pacific Hwy\, Wyong\n📅 When: Wednesday\, 11th March 2026\n⏰ Time: 11:30 AM – 1:30 PM\nEvent details hereUmina\nWhen: Thursday\, 12th March 2026\nCheck for further details on social media \nToomelah \nToomelah Public School\, off Old Bruxner Hwy\, Boggabilla NSW 2409\nMonday 13 April 2026\, 1:00pm to 3:00pm \nNarrabri\nThe Crossing Theatre (Exhibition Room)\, 117 Tibbereena St\, Narrabri NSW 2390\nTuesday 14 April 2026\, 11:00am to 1:00pm \nInverell\nAnnex Hall\, Inverell Town Hall\, Otho St & Evans St\, Inverell NSW 2360\nWednesday 15 April 2026\, 11:00am to 1:00pm \nMoree \nAuditorium\, Moree Services Club\, 3 Albert St\, Moree NSW 2400\nThursday 16 April 2026\, 5:00pm to 7:00pm
URL:https://sector.yourside.org.au/event/nsw-treaty-commission-conversation-coonamble/
LOCATION:Various Locations
END:VEVENT
BEGIN:VEVENT
DTSTART;TZID=Australia/Sydney:20260508T140000
DTEND;TZID=Australia/Sydney:20260508T160000
DTSTAMP:20260426T131847
CREATED:20260421T104457Z
LAST-MODIFIED:20260421T105501Z
UID:10000990-1778248800-1778256000@sector.yourside.org.au
SUMMARY:NSW Treaty Commission Conversation: Gilgandra
DESCRIPTION:The NSW Treaty Commission is travelling across NSW and Aboriginal communities are invited to be part of the conversation. Bring the mob\, share your thoughts\, and grab a feed. \nA conversation led by Aboriginal people\, for Aboriginal people\nAboriginal communities across NSW are being invited to take part in a statewide conversation about whether a Treaty or another kind of formal agreement is wanted\, and what that could look like. \nThis is not the start of a Treaty. It is the start of a conversation — one that belongs to Aboriginal people across NSW. \nWhat This Conversation Is About\nThe NSW Treaty Commission has been asked to listen to Aboriginal people across the State and report back on two key questions: \n\nDo Aboriginal people want a Treaty or another kind of formal agreement in NSW?\nIf so\, what should that agreement include?\n\nThere is no decision already made. The answers to these questions will come directly from Aboriginal communities. \nWhat’s Happening Now\nOver 12 months\, the NSW Treaty Commission is travelling across NSW to listen to Aboriginal people — in cities\, towns\, regional centres and remote communities. \nThis process is independent of government and shaped by what communities choose to share. \nLightning Ridge\nMonday 4 May 2026\, 11am to 1pm\nLightning Ridge Multipurpose Centre\, 1 Agate St Lightning Ridge 2834 \nWalgett\nTuesday 5 May 2026\, 11am to 1pm\nWalgett RSL Club\, 71 Fox St Walgett NSW 2832 \nCoonamble \nThursday 7 May 2026\, 11am to 1pm\nCoonamble REDI.E Youth Hub\, 1-3 McMahon St Coonamble NSW 2289 \nGilgandra \nFriday 8 May 2026\, 2pm to 4pm\nThe Gil Library Hub\, 30-32 Miller St Gilgandra NSW 2827 \nWhat This Means for You and Your Family\nTaking part is your chance to: \n\nSay whether you want a Treaty or another form of agreement making\, or not\nShare what justice\, fairness and the future mean for your community\nHelp decide the right path for your mob\, region or nation\n\nThis is about shaping a future that reflects your experiences\, your culture and your hopes. \nIf you cannot attend a session\, you can upload your thoughts online: \n\nWritten story or statement\nVoice recording\nArtwork\nVideo message\nSurvey\nRegister your interest for a small targeted session\nHost your own Treaty Conversation\n\nSubmissions from non-Aboriginal individuals or organisations are not currently a part of this consultation process. There will be opportunities in the future for non-Indigenous people and organisations to learn about the process and have a say. For now\, the focus is on ensuring Aboriginal voices are heard clearly and without interference. \nFull details on the NSW Treaty Commission website here  \n \nPast Events: \nNewcastle\nYamuloong Centre | 71 Prospect Rd\, Garden Suburb NSW 2289\nTuesday\, 10th March 2026\, 11:30am – 1:30pm\nEvent details here\n\nWyong\nWhere: Wyong Golf Club | 319 Pacific Hwy\, Wyong\nWhen: Wednesday\, 11th March 2026\nTime: 11:30 AM – 1:30 PM\nEvent details here\n\nUmina\nWhen: Thursday\, 12th March 2026\nCheck for further details on social media\nToomelah \nToomelah Public School\, off Old Bruxner Hwy\, Boggabilla NSW 2409\nMonday 13 April 2026\, 1:00pm to 3:00pmNarrabri\nThe Crossing Theatre (Exhibition Room)\, 117 Tibbereena St\, Narrabri NSW 2390\nTuesday 14 April 2026\, 11:00am to 1:00pm \nInverell\nAnnex Hall\, Inverell Town Hall\, Otho St & Evans St\, Inverell NSW 2360\nWednesday 15 April 2026\, 11:00am to 1:00pm \nMoree \nAuditorium\, Moree Services Club\, 3 Albert St\, Moree NSW 2400\nThursday 16 April 2026\, 5:00pm to 7:00pm
URL:https://sector.yourside.org.au/event/nsw-treaty-commission-conversation-gilgandra/
LOCATION:Various Locations
END:VEVENT
BEGIN:VEVENT
DTSTART;TZID=Australia/Sydney:20260512T130000
DTEND;TZID=Australia/Sydney:20260512T150000
DTSTAMP:20260426T131847
CREATED:20260303T093745Z
LAST-MODIFIED:20260303T093745Z
UID:10000957-1778590800-1778598000@sector.yourside.org.au
SUMMARY:Hornsby Ku-ring-gai Multicultural Network (HKMN)
DESCRIPTION:Hornsby Ku-ring-gai Multicultural Network (HKMN) aims to support and raise emerging issues faced by service providers in addressing and representing multicultural clients within the Local Government Area (LGA) of Hornsby and Ku-ring-gai to improve their wellbeing and lives. \nThe committee is made up of representatives from government and non-government agencies and welcomes representation of services that work in the area and are focussed on multicultural issues. \n2026 Meeting Schedule \n\nThursday 19 March\nTuesday 12 May\nTuesday 16 June\nTuesday 11 Aug\nTuesday 13 October\nWednesday 9 December\n\nSchedule current at March 2026\, contact Uma uma.menon (at) knc.org.au for further information.
URL:https://sector.yourside.org.au/event/hornsby-ku-ring-gai-multicultural-network-hkmn-2/
LOCATION:Various Locations
END:VEVENT
BEGIN:VEVENT
DTSTART;TZID=Australia/Sydney:20260616T130000
DTEND;TZID=Australia/Sydney:20260616T150000
DTSTAMP:20260426T131847
CREATED:20260303T093813Z
LAST-MODIFIED:20260303T093813Z
UID:10000958-1781614800-1781622000@sector.yourside.org.au
SUMMARY:Hornsby Ku-ring-gai Multicultural Network (HKMN)
DESCRIPTION:Hornsby Ku-ring-gai Multicultural Network (HKMN) aims to support and raise emerging issues faced by service providers in addressing and representing multicultural clients within the Local Government Area (LGA) of Hornsby and Ku-ring-gai to improve their wellbeing and lives. \nThe committee is made up of representatives from government and non-government agencies and welcomes representation of services that work in the area and are focussed on multicultural issues. \n2026 Meeting Schedule \n\nThursday 19 March\nTuesday 12 May\nTuesday 16 June\nTuesday 11 Aug\nTuesday 13 October\nWednesday 9 December\n\nSchedule current at March 2026\, contact Uma uma.menon (at) knc.org.au for further information.
URL:https://sector.yourside.org.au/event/hornsby-ku-ring-gai-multicultural-network-hkmn-3/
LOCATION:Various Locations
END:VEVENT
BEGIN:VEVENT
DTSTART;TZID=Australia/Sydney:20260811T130000
DTEND;TZID=Australia/Sydney:20260811T150000
DTSTAMP:20260426T131847
CREATED:20260303T093850Z
LAST-MODIFIED:20260303T093850Z
UID:10000959-1786453200-1786460400@sector.yourside.org.au
SUMMARY:Hornsby Ku-ring-gai Multicultural Network (HKMN)
DESCRIPTION:Hornsby Ku-ring-gai Multicultural Network (HKMN) aims to support and raise emerging issues faced by service providers in addressing and representing multicultural clients within the Local Government Area (LGA) of Hornsby and Ku-ring-gai to improve their wellbeing and lives. \nThe committee is made up of representatives from government and non-government agencies and welcomes representation of services that work in the area and are focussed on multicultural issues. \n2026 Meeting Schedule \n\nThursday 19 March\nTuesday 12 May\nTuesday 16 June\nTuesday 11 Aug\nTuesday 13 October\nWednesday 9 December\n\nSchedule current at March 2026\, contact Uma uma.menon (at) knc.org.au for further information.
URL:https://sector.yourside.org.au/event/hornsby-ku-ring-gai-multicultural-network-hkmn-4/
LOCATION:Various Locations
END:VEVENT
BEGIN:VEVENT
DTSTART;TZID=Australia/Sydney:20261029T090000
DTEND;TZID=Australia/Sydney:20261029T163000
DTSTAMP:20260426T131847
CREATED:20260421T114149Z
LAST-MODIFIED:20260421T114149Z
UID:10000992-1793264400-1793291400@sector.yourside.org.au
SUMMARY:Leadership Legacies: Creating Workplaces of Cultural Safety\, Care and Compassion
DESCRIPTION:Yamurrah offers a variety of programs which brings together culturally responsive\, trauma-informed workshops and leadership programs grounded in First Nations ways of knowing\, doing and being and informed by neuroscience\, complexity thinking\, adaptive leadership\, decolonisation and human rights.   \nLeadership Legacies: Creating Workplaces of Cultural Safety\, Care and Compassion is a 1-day session suitable for: \n\nLeaders\, managers and supervisors\nPeople shaping culture\, teams and systems\nOrganisations committed to cultural safety and ethical leadership\n\nVarious dates and locations: \n\n5 May\, Sydney\n19 May\, Brisbane\n4 June\, Melbourne\n20 July\, Alice Springs\n10 August\, Canberra\n13 October\, Cairns\n29 October\, Sydney\n\nTickets range from $1\,200 to $1\,800\nFurther information and to register here.
URL:https://sector.yourside.org.au/event/leadership-legacies-october2026/
LOCATION:Various Locations
END:VEVENT
BEGIN:VEVENT
DTSTART;TZID=Australia/Sydney:20261209T130000
DTEND;TZID=Australia/Sydney:20261209T150000
DTSTAMP:20260426T131847
CREATED:20260303T093922Z
LAST-MODIFIED:20260303T093949Z
UID:10000960-1796821200-1796828400@sector.yourside.org.au
SUMMARY:Hornsby Ku-ring-gai Multicultural Network (HKMN)
DESCRIPTION:Hornsby Ku-ring-gai Multicultural Network (HKMN) aims to support and raise emerging issues faced by service providers in addressing and representing multicultural clients within the Local Government Area (LGA) of Hornsby and Ku-ring-gai to improve their wellbeing and lives. \nThe committee is made up of representatives from government and non-government agencies and welcomes representation of services that work in the area and are focussed on multicultural issues. \n2026 Meeting Schedule \n\nThursday 19 March\nTuesday 12 May\nTuesday 16 June\nTuesday 11 Aug\nTuesday 13 October\nWednesday 9 December\n\nSchedule current at March 2026\, contact Uma uma.menon (at) knc.org.au for further information.
URL:https://sector.yourside.org.au/event/hornsby-ku-ring-gai-multicultural-network-hkmn-5/
LOCATION:Various Locations
END:VEVENT
END:VCALENDAR