BEGIN:VCALENDAR
VERSION:2.0
PRODID:-//Sector Support - ECPv6.15.20//NONSGML v1.0//EN
CALSCALE:GREGORIAN
METHOD:PUBLISH
X-WR-CALNAME:Sector Support
X-ORIGINAL-URL:https://sector.yourside.org.au
X-WR-CALDESC:Events for Sector Support
REFRESH-INTERVAL;VALUE=DURATION:PT1H
X-Robots-Tag:noindex
X-PUBLISHED-TTL:PT1H
BEGIN:VTIMEZONE
TZID:Australia/Sydney
BEGIN:STANDARD
TZOFFSETFROM:+1100
TZOFFSETTO:+1000
TZNAME:AEST
DTSTART:20250405T160000
END:STANDARD
BEGIN:DAYLIGHT
TZOFFSETFROM:+1000
TZOFFSETTO:+1100
TZNAME:AEDT
DTSTART:20251004T160000
END:DAYLIGHT
BEGIN:STANDARD
TZOFFSETFROM:+1100
TZOFFSETTO:+1000
TZNAME:AEST
DTSTART:20260404T160000
END:STANDARD
BEGIN:DAYLIGHT
TZOFFSETFROM:+1000
TZOFFSETTO:+1100
TZNAME:AEDT
DTSTART:20261003T160000
END:DAYLIGHT
BEGIN:STANDARD
TZOFFSETFROM:+1100
TZOFFSETTO:+1000
TZNAME:AEST
DTSTART:20270403T160000
END:STANDARD
BEGIN:DAYLIGHT
TZOFFSETFROM:+1000
TZOFFSETTO:+1100
TZNAME:AEDT
DTSTART:20271002T160000
END:DAYLIGHT
END:VTIMEZONE
BEGIN:VEVENT
DTSTART;TZID=Australia/Sydney:20260522T100000
DTEND;TZID=Australia/Sydney:20260522T120000
DTSTAMP:20260417T155725
CREATED:20260414T044323Z
LAST-MODIFIED:20260414T044323Z
UID:10000981-1779444000-1779451200@sector.yourside.org.au
SUMMARY:Death Cafe: North Sydney Community Centre
DESCRIPTION:Death Café is an opportunity to chat in a relaxed and informal way about death and dying. The conversation can flow from personal stories to thoughts\, reflections and questions about death. It is a time to listen as well and be respectful of others. And\, to share a cup of tea or coffee and a piece of cake. \nNicky Soloman was interviewed by North Sydney Living about the Death Cafe. If you’d like to read the article\, click here. \nUpcoming Dates: \n\nFriday 22 May 2026\, 10:00am to 12:00pm\nFriday 19 June 2025\, 6:30pm to 8:00pm\n\nFor details and to book (here)
URL:https://sector.yourside.org.au/event/death-cafe-north-sydney-community-centre/
LOCATION:North Sydney Community Centre\, 220 Miller St\, North Sydney\, NSW\, 2060\, Australia
END:VEVENT
BEGIN:VEVENT
DTSTART;TZID=Australia/Sydney:20260619T183000
DTEND;TZID=Australia/Sydney:20260619T200000
DTSTAMP:20260417T155725
CREATED:20260414T044405Z
LAST-MODIFIED:20260414T044405Z
UID:10000982-1781893800-1781899200@sector.yourside.org.au
SUMMARY:Death Cafe: North Sydney Community Centre
DESCRIPTION:Death Café is an opportunity to chat in a relaxed and informal way about death and dying. The conversation can flow from personal stories to thoughts\, reflections and questions about death. It is a time to listen as well and be respectful of others. And\, to share a cup of tea or coffee and a piece of cake. \nNicky Soloman was interviewed by North Sydney Living about the Death Cafe. If you’d like to read the article\, click here. \nUpcoming Dates: \n\nFriday 22 May 2026\, 10:00am to 12:00pm\nFriday 19 June 2025\, 6:30pm to 8:00pm\n\nFor details and to book (here)
URL:https://sector.yourside.org.au/event/death-cafe-north-sydney-community-centre-2/
LOCATION:North Sydney Community Centre\, 220 Miller St\, North Sydney\, NSW\, 2060\, Australia
END:VEVENT
END:VCALENDAR