BEGIN:VCALENDAR
VERSION:2.0
PRODID:-//Sector Support - ECPv6.15.20//NONSGML v1.0//EN
CALSCALE:GREGORIAN
METHOD:PUBLISH
X-ORIGINAL-URL:https://sector.yourside.org.au
X-WR-CALDESC:Events for Sector Support
REFRESH-INTERVAL;VALUE=DURATION:PT1H
X-Robots-Tag:noindex
X-PUBLISHED-TTL:PT1H
BEGIN:VTIMEZONE
TZID:Australia/Sydney
BEGIN:STANDARD
TZOFFSETFROM:+1100
TZOFFSETTO:+1000
TZNAME:AEST
DTSTART:20250405T160000
END:STANDARD
BEGIN:DAYLIGHT
TZOFFSETFROM:+1000
TZOFFSETTO:+1100
TZNAME:AEDT
DTSTART:20251004T160000
END:DAYLIGHT
BEGIN:STANDARD
TZOFFSETFROM:+1100
TZOFFSETTO:+1000
TZNAME:AEST
DTSTART:20260404T160000
END:STANDARD
BEGIN:DAYLIGHT
TZOFFSETFROM:+1000
TZOFFSETTO:+1100
TZNAME:AEDT
DTSTART:20261003T160000
END:DAYLIGHT
BEGIN:STANDARD
TZOFFSETFROM:+1100
TZOFFSETTO:+1000
TZNAME:AEST
DTSTART:20270403T160000
END:STANDARD
BEGIN:DAYLIGHT
TZOFFSETFROM:+1000
TZOFFSETTO:+1100
TZNAME:AEDT
DTSTART:20271002T160000
END:DAYLIGHT
END:VTIMEZONE
BEGIN:VEVENT
DTSTART;TZID=Australia/Sydney:20261029T090000
DTEND;TZID=Australia/Sydney:20261029T163000
DTSTAMP:20260422T104327
CREATED:20260421T114149Z
LAST-MODIFIED:20260421T114149Z
UID:10000992-1793264400-1793291400@sector.yourside.org.au
SUMMARY:Leadership Legacies: Creating Workplaces of Cultural Safety\, Care and Compassion
DESCRIPTION:Yamurrah offers a variety of programs which brings together culturally responsive\, trauma-informed workshops and leadership programs grounded in First Nations ways of knowing\, doing and being and informed by neuroscience\, complexity thinking\, adaptive leadership\, decolonisation and human rights.   \nLeadership Legacies: Creating Workplaces of Cultural Safety\, Care and Compassion is a 1-day session suitable for: \n\nLeaders\, managers and supervisors\nPeople shaping culture\, teams and systems\nOrganisations committed to cultural safety and ethical leadership\n\nVarious dates and locations: \n\n5 May\, Sydney\n19 May\, Brisbane\n4 June\, Melbourne\n20 July\, Alice Springs\n10 August\, Canberra\n13 October\, Cairns\n29 October\, Sydney\n\nTickets range from $1\,200 to $1\,800\nFurther information and to register here.
URL:https://sector.yourside.org.au/event/leadership-legacies-october2026/
LOCATION:Various Locations
END:VEVENT
BEGIN:VEVENT
DTSTART;TZID=Australia/Sydney:20261209T130000
DTEND;TZID=Australia/Sydney:20261209T150000
DTSTAMP:20260422T104327
CREATED:20260303T093922Z
LAST-MODIFIED:20260303T093949Z
UID:10000960-1796821200-1796828400@sector.yourside.org.au
SUMMARY:Hornsby Ku-ring-gai Multicultural Network (HKMN)
DESCRIPTION:Hornsby Ku-ring-gai Multicultural Network (HKMN) aims to support and raise emerging issues faced by service providers in addressing and representing multicultural clients within the Local Government Area (LGA) of Hornsby and Ku-ring-gai to improve their wellbeing and lives. \nThe committee is made up of representatives from government and non-government agencies and welcomes representation of services that work in the area and are focussed on multicultural issues. \n2026 Meeting Schedule \n\nThursday 19 March\nTuesday 12 May\nTuesday 16 June\nTuesday 11 Aug\nTuesday 13 October\nWednesday 9 December\n\nSchedule current at March 2026\, contact Uma uma.menon (at) knc.org.au for further information.
URL:https://sector.yourside.org.au/event/hornsby-ku-ring-gai-multicultural-network-hkmn-5/
LOCATION:Various Locations
END:VEVENT
END:VCALENDAR